BEGIN:VCALENDAR
VERSION:2.0
PRODID:-//COMITES Berlino - ECPv6.15.20//NONSGML v1.0//EN
CALSCALE:GREGORIAN
METHOD:PUBLISH
X-WR-CALNAME:COMITES Berlino
X-ORIGINAL-URL:https://comites-berlin.eu
X-WR-CALDESC:Eventi per COMITES Berlino
REFRESH-INTERVAL;VALUE=DURATION:PT1H
X-Robots-Tag:noindex
X-PUBLISHED-TTL:PT1H
BEGIN:VTIMEZONE
TZID:Europe/Berlin
BEGIN:DAYLIGHT
TZOFFSETFROM:+0100
TZOFFSETTO:+0200
TZNAME:CEST
DTSTART:20250330T010000
END:DAYLIGHT
BEGIN:STANDARD
TZOFFSETFROM:+0200
TZOFFSETTO:+0100
TZNAME:CET
DTSTART:20251026T010000
END:STANDARD
BEGIN:DAYLIGHT
TZOFFSETFROM:+0100
TZOFFSETTO:+0200
TZNAME:CEST
DTSTART:20260329T010000
END:DAYLIGHT
BEGIN:STANDARD
TZOFFSETFROM:+0200
TZOFFSETTO:+0100
TZNAME:CET
DTSTART:20261025T010000
END:STANDARD
BEGIN:DAYLIGHT
TZOFFSETFROM:+0100
TZOFFSETTO:+0200
TZNAME:CEST
DTSTART:20270328T010000
END:DAYLIGHT
BEGIN:STANDARD
TZOFFSETFROM:+0200
TZOFFSETTO:+0100
TZNAME:CET
DTSTART:20271031T010000
END:STANDARD
END:VTIMEZONE
BEGIN:VEVENT
DTSTART;TZID=Europe/Berlin:20260420T184500
DTEND;TZID=Europe/Berlin:20260420T194500
DTSTAMP:20260420T012706
CREATED:20260401T073352Z
LAST-MODIFIED:20260401T073932Z
UID:17197-1776710700-1776714300@comites-berlin.eu
SUMMARY:Dove vive la Costituzione
DESCRIPTION:I principi fondamentali della Repubblica.\nIl secondo incontro del ciclo sulla Costituzione italiana promosso dal Comites Berlino è dedicato al lavoro dell’Assemblea costituente nella stesura dei primi dodici articoli della Carta. \nTenuto da Lorin Decarli\, giurista che vive a Berlino.  \nQuando: 20 aprile 2026\, ore 18:45 \nDove: Sede Comites Berlino Kottbusser Damm 79\, 10967 Berlin. Primo cortile\, ingresso A\, 4 piano. \nIncontro in presenza\, massimo 20 partecipanti\, si richiede di effettuare l’iscrizione inviando una mail all’indirizzo: info@comites-berlin.de  \nArticolo sito Comites Berlino \nEvento Facebook
URL:https://comites-berlin.eu/event/dove-vive-la-costituzione/
LOCATION:Comites Berlino\, Kottbusser Damm 79\, Berlin\, 10967\, Germania
CATEGORIES:evento
ATTACH;FMTTYPE=image/png:https://comites-berlin.eu/wp-content/uploads/2025/10/Costituzione-12.11.png
END:VEVENT
END:VCALENDAR