BEGIN:VCALENDAR
VERSION:2.0
PRODID:-//COMITES Berlino - ECPv6.15.20//NONSGML v1.0//EN
CALSCALE:GREGORIAN
METHOD:PUBLISH
X-ORIGINAL-URL:https://comites-berlin.eu
X-WR-CALDESC:Eventi per COMITES Berlino
REFRESH-INTERVAL;VALUE=DURATION:PT1H
X-Robots-Tag:noindex
X-PUBLISHED-TTL:PT1H
BEGIN:VTIMEZONE
TZID:Europe/Berlin
BEGIN:DAYLIGHT
TZOFFSETFROM:+0100
TZOFFSETTO:+0200
TZNAME:CEST
DTSTART:20250330T010000
END:DAYLIGHT
BEGIN:STANDARD
TZOFFSETFROM:+0200
TZOFFSETTO:+0100
TZNAME:CET
DTSTART:20251026T010000
END:STANDARD
BEGIN:DAYLIGHT
TZOFFSETFROM:+0100
TZOFFSETTO:+0200
TZNAME:CEST
DTSTART:20260329T010000
END:DAYLIGHT
BEGIN:STANDARD
TZOFFSETFROM:+0200
TZOFFSETTO:+0100
TZNAME:CET
DTSTART:20261025T010000
END:STANDARD
BEGIN:DAYLIGHT
TZOFFSETFROM:+0100
TZOFFSETTO:+0200
TZNAME:CEST
DTSTART:20270328T010000
END:DAYLIGHT
BEGIN:STANDARD
TZOFFSETFROM:+0200
TZOFFSETTO:+0100
TZNAME:CET
DTSTART:20271031T010000
END:STANDARD
END:VTIMEZONE
BEGIN:VEVENT
DTSTART;TZID=Europe/Berlin:20260425T120000
DTEND;TZID=Europe/Berlin:20260425T190000
DTSTAMP:20260420T133522
CREATED:20260417T072421Z
LAST-MODIFIED:20260417T073302Z
UID:17209-1777118400-1777143600@comites-berlin.eu
SUMMARY:Festa della Liberazione 2026 Berlino
DESCRIPTION:Anche quest’anno Il Comites Berlino supporta le celebrazioni della Festa della Liberazione\, organizzate da ANPI Berlino\, per ricordare i valori della resistenza\, riflettere sul presente e rinnovare la lotta contro l’oppressione e l’ingiustizia. \nSabato 25 aprile festeggeremo insieme al Regenbogenfabrik dalle 12 alle 19 \n\n\nAl link tutte le informazioni \n\n  \n  \n 
URL:https://comites-berlin.eu/event/festa-della-liberazione-2026-berlino/
LOCATION:Regenbogenfabrik
CATEGORIES:evento
ATTACH;FMTTYPE=image/jpeg:https://comites-berlin.eu/wp-content/uploads/2026/04/facebook-IT-e1776410001711.jpg
END:VEVENT
END:VCALENDAR