BEGIN:VCALENDAR
VERSION:2.0
PRODID:-//COMITES Berlino - ECPv6.15.20//NONSGML v1.0//EN
CALSCALE:GREGORIAN
METHOD:PUBLISH
X-ORIGINAL-URL:https://comites-berlin.eu
X-WR-CALDESC:Eventi per COMITES Berlino
REFRESH-INTERVAL;VALUE=DURATION:PT1H
X-Robots-Tag:noindex
X-PUBLISHED-TTL:PT1H
BEGIN:VTIMEZONE
TZID:Europe/Berlin
BEGIN:DAYLIGHT
TZOFFSETFROM:+0100
TZOFFSETTO:+0200
TZNAME:CEST
DTSTART:20220327T010000
END:DAYLIGHT
BEGIN:STANDARD
TZOFFSETFROM:+0200
TZOFFSETTO:+0100
TZNAME:CET
DTSTART:20221030T010000
END:STANDARD
BEGIN:DAYLIGHT
TZOFFSETFROM:+0100
TZOFFSETTO:+0200
TZNAME:CEST
DTSTART:20230326T010000
END:DAYLIGHT
BEGIN:STANDARD
TZOFFSETFROM:+0200
TZOFFSETTO:+0100
TZNAME:CET
DTSTART:20231029T010000
END:STANDARD
BEGIN:DAYLIGHT
TZOFFSETFROM:+0100
TZOFFSETTO:+0200
TZNAME:CEST
DTSTART:20240331T010000
END:DAYLIGHT
BEGIN:STANDARD
TZOFFSETFROM:+0200
TZOFFSETTO:+0100
TZNAME:CET
DTSTART:20241027T010000
END:STANDARD
END:VTIMEZONE
BEGIN:VEVENT
DTSTART;TZID=Europe/Berlin:20231118T180000
DTEND;TZID=Europe/Berlin:20231118T220000
DTSTAMP:20260425T213900
CREATED:20231027T115415Z
LAST-MODIFIED:20231103T043658Z
UID:16360-1700330400-1700344800@comites-berlin.eu
SUMMARY:Caleidoscopio. Un Concerto scenico di e con Annalisa Derossi.
DESCRIPTION:Il Comites della circoscrizione consolare di Berlino è lieto di presentare l’evento musicale Caleidoscopio. Un Concerto scenico di e con Annalisa Derossi. \nUna combinazione di musica\, movimento e linguaggio\, ideata e messa in scena dalla pianista e danzatrice italiana. \nIscrizioni entro il 15 novembre al link Eventbrite \nEvento Facebook \nCaleidoscopio. Un Concerto scenico di e con Annalisa Derossi.\nSabato 18 novembre 2023\, ore 18:00\nSaal im Evangelische Kirchengemeinde Rixdorf U/S Neukölln\nKarl-Marx-Straße 197\, 12055 Berlin \nKaleidoskop. Ein szenisches Konzert von und mit Annalisa Derossi \nDie Veranstaltung findet auf Italienisch statt. \nFreier Eintritt\, Reservierung erforderlich  \nSamstag 18. November 2023 um 18 Uhr\nSaal im Evangelische Kirchengemeinde Rixdorf U/S Neukölln\nKarl-Marx-Straße 197\, 12055 Berlin
URL:https://comites-berlin.eu/event/caleidoscopio-un-concerto-scenico-di-e-con-annalisa-derossi/
LOCATION:Saal im Evangelische Kirchengemeinde Rixdorf U/S Neukölln\, Karl-Marx-Straße 197\, 12055 Berlin\, Berlino\, 12055\, Germania
CATEGORIES:evento
ATTACH;FMTTYPE=image/jpeg:https://comites-berlin.eu/wp-content/uploads/2023/10/FACEBOOK_Concerto-Caleidoscopio-18.11-1.jpeg
END:VEVENT
END:VCALENDAR