BEGIN:VCALENDAR
VERSION:2.0
PRODID:-//COMITES Berlino - ECPv6.15.20//NONSGML v1.0//EN
CALSCALE:GREGORIAN
METHOD:PUBLISH
X-ORIGINAL-URL:https://comites-berlin.eu
X-WR-CALDESC:Eventi per COMITES Berlino
REFRESH-INTERVAL;VALUE=DURATION:PT1H
X-Robots-Tag:noindex
X-PUBLISHED-TTL:PT1H
BEGIN:VTIMEZONE
TZID:Europe/Berlin
BEGIN:DAYLIGHT
TZOFFSETFROM:+0100
TZOFFSETTO:+0200
TZNAME:CEST
DTSTART:20220327T010000
END:DAYLIGHT
BEGIN:STANDARD
TZOFFSETFROM:+0200
TZOFFSETTO:+0100
TZNAME:CET
DTSTART:20221030T010000
END:STANDARD
BEGIN:DAYLIGHT
TZOFFSETFROM:+0100
TZOFFSETTO:+0200
TZNAME:CEST
DTSTART:20230326T010000
END:DAYLIGHT
BEGIN:STANDARD
TZOFFSETFROM:+0200
TZOFFSETTO:+0100
TZNAME:CET
DTSTART:20231029T010000
END:STANDARD
BEGIN:DAYLIGHT
TZOFFSETFROM:+0100
TZOFFSETTO:+0200
TZNAME:CEST
DTSTART:20240331T010000
END:DAYLIGHT
BEGIN:STANDARD
TZOFFSETFROM:+0200
TZOFFSETTO:+0100
TZNAME:CET
DTSTART:20241027T010000
END:STANDARD
END:VTIMEZONE
BEGIN:VEVENT
DTSTART;TZID=Europe/Berlin:20231125T180000
DTEND;TZID=Europe/Berlin:20231125T210000
DTSTAMP:20260425T214328
CREATED:20231114T112342Z
LAST-MODIFIED:20231114T113429Z
UID:16410-1700935200-1700946000@comites-berlin.eu
SUMMARY:Paura non Abbiamo "La violenza contro le Donne e la Giustizia tedesca"
DESCRIPTION:Il Comites della circoscrizione consolare di Berlino è lieto di invitare alla serata informativa del ciclo \nPaura non Abbiamo “La violenza contro le Donne e la Giustizia tedesca” \nIl 25 novembre 2023\, alle ore 18:00\, in occasione della Giornata Internazionale contro la violenza sulle donne\, si terrà presso la sede del Comites Berlino\, un nuovo appuntamento del ciclo contro la violenza di genere “Paura non abbiamo” \nLa serata vedrà come ospite il Giudice Alessandro Bellardita\, con il quale ci si potrà confrontare sul delicato tema della “Violenza contro le donne e la giustizia tedesca” \nPer poter partecipare in presenza all’evento è necessaria l’iscrizione tramite il seguente link \nQui il link Facebook per seguire l’incontro online \nPaura non Abbiamo “La violenza contro le Donne e la Giustizia tedesca”\nSabato 25 novembre\, ore 18:00\, presso la sede del Comites Berlino.\nKottbusser Damm\, 70\, 10967. Primo cortile\, ingresso A.
URL:https://comites-berlin.eu/event/paura-non-abbiamo-la-violenza-contro-le-donne-e-la-giustizia-tedesca/
LOCATION:Comites Berlino\, Kottbusser Damm 79\, Berlin\, 10967\, Germania
CATEGORIES:evento
ATTACH;FMTTYPE=image/jpeg:https://comites-berlin.eu/wp-content/uploads/2023/11/Copertina.-Paura-non-abbiamo-23.jpeg
ORGANIZER;CN="COMITES Berlin":MAILTO:info@comites-berlin.de
END:VEVENT
END:VCALENDAR