BEGIN:VCALENDAR
VERSION:2.0
PRODID:-//COMITES Berlino - ECPv6.15.20//NONSGML v1.0//EN
CALSCALE:GREGORIAN
METHOD:PUBLISH
X-WR-CALNAME:COMITES Berlino
X-ORIGINAL-URL:https://comites-berlin.eu
X-WR-CALDESC:Eventi per COMITES Berlino
REFRESH-INTERVAL;VALUE=DURATION:PT1H
X-Robots-Tag:noindex
X-PUBLISHED-TTL:PT1H
BEGIN:VTIMEZONE
TZID:Europe/Berlin
BEGIN:DAYLIGHT
TZOFFSETFROM:+0100
TZOFFSETTO:+0200
TZNAME:CEST
DTSTART:20250330T010000
END:DAYLIGHT
BEGIN:STANDARD
TZOFFSETFROM:+0200
TZOFFSETTO:+0100
TZNAME:CET
DTSTART:20251026T010000
END:STANDARD
BEGIN:DAYLIGHT
TZOFFSETFROM:+0100
TZOFFSETTO:+0200
TZNAME:CEST
DTSTART:20260329T010000
END:DAYLIGHT
BEGIN:STANDARD
TZOFFSETFROM:+0200
TZOFFSETTO:+0100
TZNAME:CET
DTSTART:20261025T010000
END:STANDARD
BEGIN:DAYLIGHT
TZOFFSETFROM:+0100
TZOFFSETTO:+0200
TZNAME:CEST
DTSTART:20270328T010000
END:DAYLIGHT
BEGIN:STANDARD
TZOFFSETFROM:+0200
TZOFFSETTO:+0100
TZNAME:CET
DTSTART:20271031T010000
END:STANDARD
END:VTIMEZONE
BEGIN:VEVENT
DTSTART;TZID=Europe/Berlin:20260128T140000
DTEND;TZID=Europe/Berlin:20260129T200000
DTSTAMP:20260426T022008
CREATED:20260107T073634Z
LAST-MODIFIED:20260107T074425Z
UID:17103-1769608800-1769716800@comites-berlin.eu
SUMMARY:Dalla visione alla pratica: un percorso di scuola inclusiva
DESCRIPTION:Dalla visione alla pratica – Un percorso di scuola inclusiva\n\n\n\nL’Associazione Artemisia\, in collaborazione con la Freie Universität Berlin\, l’Istituto Italiano di Cultura e il Comites di Berlino\, organizza due conferenze-seminario sulla didattica inclusiva presso la Freie Universität e l’Istituto Italiano di Cultura\, accompagnate da due workshop dedicati a insegnanti ed educatori presso la Finow-Grundschule. \n\n\nUn percorso formativo dedicato alla scuola inclusiva\, che mette in dialogo riflessione pedagogica e pratiche educative concrete.\n\nRelatori:\nDario Ianes e Benedetta Zagni.\n\n\n\n28 e 29 gennaio 2026. Due giornate di workshop e conferenze rivolte a insegnanti\, educatori ed educatrici\, professionisti dell’educazione\, studenti\, famiglie e a tutte le persone interessate ai temi dell’inclusione e della partecipazione nella scuola.\n\n\nAl link tutte le informazioni per partecipare\n\n  \n  \n 
URL:https://comites-berlin.eu/event/dalla-visione-alla-pratica-un-percorso-di-scuola-inclusiva/
LOCATION:Diversi luoghi
CATEGORIES:evento
ATTACH;FMTTYPE=image/jpeg:https://comites-berlin.eu/wp-content/uploads/2026/01/Evento-scuola-2026-e1767770588909.jpg
END:VEVENT
END:VCALENDAR